BEGIN:VCALENDAR
VERSION:2.0
PRODID:-//Canadian Women of Colour Leadership Network - ECPv6.15.20//NONSGML v1.0//EN
CALSCALE:GREGORIAN
METHOD:PUBLISH
X-ORIGINAL-URL:https://canadianwomenofcolour.ca
X-WR-CALDESC:Events for Canadian Women of Colour Leadership Network
REFRESH-INTERVAL;VALUE=DURATION:PT1H
X-Robots-Tag:noindex
X-PUBLISHED-TTL:PT1H
BEGIN:VTIMEZONE
TZID:UTC
BEGIN:STANDARD
TZOFFSETFROM:+0000
TZOFFSETTO:+0000
TZNAME:UTC
DTSTART:20240101T000000
END:STANDARD
END:VTIMEZONE
BEGIN:VEVENT
DTSTART;VALUE=DATE:20250927
DTEND;VALUE=DATE:20251109
DTSTAMP:20260422T215635
CREATED:20250808T183119Z
LAST-MODIFIED:20250808T183119Z
UID:13486-1758931200-1762646399@canadianwomenofcolour.ca
SUMMARY:Creative Expression 2025: New Beginnings
DESCRIPTION:Now in its 4th year\, CWCLN’s Creative Expressions returns as a beloved space for reflection\, creativity\, and community — rooted in care\, culture\, and connection. \nThis year’s theme\, New Beginnings\, invites Black and racialized women and femmes into a 7-week creative wellness journey that blends artistic exploration with personal growth. \nEach week offers something new: from crafting sun catchers and exploring the meaning behind your name\, to journaling\, movement\, and flag-making. Whether you’re reconnecting with your creative self or simply looking for a space to be held — this is for you. \nProgram begins September 27th\, 2025\nHeld in person (Ottawa)\nLimited spaces available\nRegister here: https://forms.gle/rp5rMNssZ6yVojnf8 \nJoin us to move\, reflect\, create\, and begin again — together.
URL:https://canadianwomenofcolour.ca/event/creative-expression-2025-new-beginnings/
ATTACH;FMTTYPE=image/png:https://canadianwomenofcolour.ca/wp-content/uploads/2025/08/Creative-Expressions-2025.png
END:VEVENT
BEGIN:VEVENT
DTSTART;TZID=UTC:20251021T120000
DTEND;TZID=UTC:20251021T130000
DTSTAMP:20260422T215635
CREATED:20251014T174455Z
LAST-MODIFIED:20251014T174455Z
UID:13831-1761048000-1761051600@canadianwomenofcolour.ca
SUMMARY:Beyond the Stigma
DESCRIPTION:Beyond the Stigma – Conversations on Stigma\, Strength\, and Breast Cancer Awareness in Black and Racialized Women  \nJoin us for a powerful webinar exploring stigma\, strength\, and breast cancer awareness in Black and racialized women. This session will highlight the lived experiences and advocacy of women who continue to inspire change. \nWe are honoured to welcome Khalilah Elliott\, a Certified HR Professional\, Digital Entrepreneur\, wife\, mother\, and breast cancer survivor. Diagnosed with Stage 3 HER2+ Invasive Ductal Carcinoma at 39\, Khalilah transformed her journey of fear into one of faith\, strength\, and advocacy. Today\, she boldly shares her story\, volunteers with BrightRun\, and empowers others to find courage and healing through their own struggles. \nWe are also joined by Bukun Adegbembo\, Director of Operations at the Canadian Breast Cancer Network (CBCN). With a background in social psychology and years of experience in research\, policy\, and program management\, Bukun works to ensure that the voices and concerns of breast cancer patients are amplified through education\, advocacy\, and systemic change. \nTogether\, they will shed light on the intersections of stigma\, culture\, and healthcare access while inspiring resilience and action in our communities. Don’t miss this conversation rooted in strength\, lived experience\, and the pursuit of health equity. \nHosted by: Canadian Women of Colour Leadership Network \nFacilitators:\nDanielle James\, Engagement and Learning Coordinator\, Black Maternal Health & Reproductive Justice\, CWCLN \nErica Kamikazi\, Community Engagement Coordinator\, Ottawa Public Health \nDate: October 21st\, 2025 \nLocation: Online/Zoom \nTime: 12pm (EST) \nRegister at this link: https://us02web.zoom.us/meeting/register/E1yQWJ-ES0Sjko5d58vGTQ
URL:https://canadianwomenofcolour.ca/event/beyond-the-stigma/
LOCATION:Online event
ATTACH;FMTTYPE=image/png:https://canadianwomenofcolour.ca/wp-content/uploads/2025/10/Poster-Beyond-the-Stigma-1.png
END:VEVENT
END:VCALENDAR