BEGIN:VCALENDAR
VERSION:2.0
PRODID:-//Canadian Women of Colour Leadership Network - ECPv6.15.20//NONSGML v1.0//EN
CALSCALE:GREGORIAN
METHOD:PUBLISH
X-ORIGINAL-URL:https://canadianwomenofcolour.ca
X-WR-CALDESC:Events for Canadian Women of Colour Leadership Network
REFRESH-INTERVAL;VALUE=DURATION:PT1H
X-Robots-Tag:noindex
X-PUBLISHED-TTL:PT1H
BEGIN:VTIMEZONE
TZID:UTC
BEGIN:STANDARD
TZOFFSETFROM:+0000
TZOFFSETTO:+0000
TZNAME:UTC
DTSTART:20240101T000000
END:STANDARD
END:VTIMEZONE
BEGIN:VEVENT
DTSTART;VALUE=DATE:20250927
DTEND;VALUE=DATE:20251109
DTSTAMP:20260422T180420
CREATED:20250808T183119Z
LAST-MODIFIED:20250808T183119Z
UID:13486-1758931200-1762646399@canadianwomenofcolour.ca
SUMMARY:Creative Expression 2025: New Beginnings
DESCRIPTION:Now in its 4th year\, CWCLN’s Creative Expressions returns as a beloved space for reflection\, creativity\, and community — rooted in care\, culture\, and connection. \nThis year’s theme\, New Beginnings\, invites Black and racialized women and femmes into a 7-week creative wellness journey that blends artistic exploration with personal growth. \nEach week offers something new: from crafting sun catchers and exploring the meaning behind your name\, to journaling\, movement\, and flag-making. Whether you’re reconnecting with your creative self or simply looking for a space to be held — this is for you. \nProgram begins September 27th\, 2025\nHeld in person (Ottawa)\nLimited spaces available\nRegister here: https://forms.gle/rp5rMNssZ6yVojnf8 \nJoin us to move\, reflect\, create\, and begin again — together.
URL:https://canadianwomenofcolour.ca/event/creative-expression-2025-new-beginnings/
ATTACH;FMTTYPE=image/png:https://canadianwomenofcolour.ca/wp-content/uploads/2025/08/Creative-Expressions-2025.png
END:VEVENT
BEGIN:VEVENT
DTSTART;TZID=UTC:20251112T120000
DTEND;TZID=UTC:20251112T130000
DTSTAMP:20260422T180420
CREATED:20251104T203627Z
LAST-MODIFIED:20251104T203627Z
UID:13975-1762948800-1762952400@canadianwomenofcolour.ca
SUMMARY:Our Health\, Our Power: Understanding and Preventing Diabetes among Black Women
DESCRIPTION:Join us for an engaging and timely webinar exploring the intersections of race\, gender\, and health through the lens of diabetes among Black women in Canada. This session will examine how social and systemic factors — including racism\, income\, and access to care — contribute to higher rates of diabetes\, while also highlighting pathways to prevention\, advocacy\, and collective wellness. \nWe are honoured to welcome Dr. Josephine Etowa\, Professor and Tier 1 Canada Research Chair in Black Women’s Health at the University of Ottawa. A midwife\, perinatal nurse\, and lactation consultant\, Dr. Etowa is globally recognized for her leadership in addressing health inequities and racism in healthcare. Her research bridges evidence\, community experience\, and action\, advancing health equity and transforming systems of care so that Black women and families can thrive. \nTogether\, we’ll explore how diabetes connects to broader issues of health justice and how community knowledge can drive systemic change. \nDon’t miss this powerful conversation that centers healing\, empowerment\, and prevention through collective action. \nHosted by: Canadian Women of Colour Leadership Network (CWCLN) \nFacilitators: \n\nDanielle James\, Engagement and Learning Coordinator\, Black Maternal Health & Reproductive Justice\, CWCLN\nErica Kamikazi\, Community Engagement Coordinator\, Ottawa Public Health\n\nDate: November 12th\, 2025\nLocation: Online via Zoom\nTime: 12:00 PM (EST) \nRegister HERE
URL:https://canadianwomenofcolour.ca/event/our-health-our-power-understanding-and-preventing-diabetes-among-black-women/
LOCATION:Online event
ATTACH;FMTTYPE=image/png:https://canadianwomenofcolour.ca/wp-content/uploads/2025/11/Diabetes-webinar.png
END:VEVENT
BEGIN:VEVENT
DTSTART;TZID=UTC:20251119T180000
DTEND;TZID=UTC:20251119T190000
DTSTAMP:20260422T180420
CREATED:20251110T173303Z
LAST-MODIFIED:20251110T173303Z
UID:13984-1763575200-1763578800@canadianwomenofcolour.ca
SUMMARY:Black Reproductive Health and Fertility
DESCRIPTION:Thinking about starting a family? \nJoin CWCLN and the Black Fertility Agency on November 19\, 2025\, at 6PM EST for an inclusive webinar on Reproductive Health and Fertility. Learn when to get screened or tested\, explore fertility options like IUI and IVF\, and understand how health disparities impact our communities. \nFeaturing Claire Pyvoine Abanda\, a Fertility Nurse\, and Yvette Mendonca\, a Nurse Coordinator with over a decade of experience\, this session offers compassionate\, expert guidance for your fertility journey. \nFree Online Webinar — Open to all Black and racialized women\, femmes\, and couples. \nRegister HERE.
URL:https://canadianwomenofcolour.ca/event/black-reproductive-health-and-fertility/
LOCATION:Online event
ATTACH;FMTTYPE=image/png:https://canadianwomenofcolour.ca/wp-content/uploads/2025/11/Fertility-Webinar-.png
END:VEVENT
END:VCALENDAR